BEGIN:VCALENDAR
VERSION:2.0
PRODID:-//Office for Victims of Crime//NONSGML Event Calendar//EN
BEGIN:VEVENT
UID:40bb6356-ebf0-4b6a-813e-5388231cfb02
DTSTART;TZID=UTC:20220519T170000
SEQUENCE:0
TRANSP:OPAQUE
DTEND;TZID=UTC:20220519T180000
LOCATION:https://ovc.ojp.gov/events/ovc-fy-2022-law-enforcement-based-victi
 m-services-technical-assistance-program-pre
SUMMARY:OVC FY 2022 Law Enforcement-Based Victim Services Technical Assista
 nce Program Pre-Application Webinar
CLASS:PUBLIC
DESCRIPTION:Learn more about this event: https://ovc.ojp.gov/events/ovc-fy-
 2022-law-enforcement-based-victim-services-technical-assistance-program-pr
 e
DTSTAMP:20260413T204246Z
END:VEVENT
END:VCALENDAR