BEGIN:VCALENDAR
VERSION:2.0
PRODID:-//Office for Victims of Crime//NONSGML Event Calendar//EN
BEGIN:VEVENT
UID:f7893874-6c57-4729-8f41-f72f1b9730d9
DTSTART;VALUE=DATE:20220627
SEQUENCE:0
TRANSP:OPAQUE
DTEND;VALUE=DATE:20220715
LOCATION:https://ovc.ojp.gov/events/national-victim-assistance-academy-buil
 ding-resiliency-organizations
SUMMARY:National Victim Assistance Academy: Building Resiliency in Organiza
 tions
CLASS:PUBLIC
DESCRIPTION:Learn more about this event: https://ovc.ojp.gov/events/nationa
 l-victim-assistance-academy-building-resiliency-organizations
X-MICROSOFT-CDO-ALLDAYEVENT:TRUE
DTSTAMP:20260422T214809Z
END:VEVENT
END:VCALENDAR