BEGIN:VCALENDAR
VERSION:2.0
PRODID:-//Office for Victims of Crime//NONSGML Event Calendar//EN
BEGIN:VEVENT
UID:bf6e28c2-40af-497c-a720-0d1894781739
DTSTART;VALUE=DATE:20220711
SEQUENCE:0
TRANSP:OPAQUE
DTEND;VALUE=DATE:20220819
LOCATION:https://ovc.ojp.gov/events/national-victim-assistance-academy-fina
 ncial-management-0
SUMMARY:National Victim Assistance Academy: Financial Management
CLASS:PUBLIC
DESCRIPTION:Learn more about this event: https://ovc.ojp.gov/events/nationa
 l-victim-assistance-academy-financial-management-0
X-MICROSOFT-CDO-ALLDAYEVENT:TRUE
DTSTAMP:20260422T214809Z
END:VEVENT
END:VCALENDAR