BEGIN:VCALENDAR
VERSION:2.0
PRODID:-//Office for Victims of Crime//NONSGML Event Calendar//EN
BEGIN:VEVENT
UID:42edd160-891e-4838-af53-2d3fe7af74de
DTSTART;TZID=UTC:20221024T183000
SEQUENCE:0
TRANSP:OPAQUE
DTEND;TZID=UTC:20221110T204500
LOCATION:https://ovc.ojp.gov/events/national-victim-assistance-academy-buil
 ding-and-managing-volunteer-programs-1
SUMMARY:National Victim Assistance Academy: Building and Managing Volunteer
  Programs
CLASS:PUBLIC
DESCRIPTION:Learn more about this event: https://ovc.ojp.gov/events/nationa
 l-victim-assistance-academy-building-and-managing-volunteer-programs-1
DTSTAMP:20260412T020824Z
END:VEVENT
END:VCALENDAR