BEGIN:VCALENDAR
VERSION:2.0
PRODID:-//Office for Victims of Crime//NONSGML Event Calendar//EN
BEGIN:VEVENT
UID:30d1ecf4-b36c-4b19-8519-588720069bb8
DTSTART;TZID=UTC:20230310T180000
SEQUENCE:0
TRANSP:OPAQUE
DTEND;TZID=UTC:20230310T190000
LOCATION:https://ovc.ojp.gov/events/ovc-fy-2023-national-mass-violence-vict
 imization-resource-center-pre-application-webinar
SUMMARY:OVC FY 2023 National Mass Violence Victimization Resource Center Pr
 e-Application Webinar
CLASS:PUBLIC
DESCRIPTION:Learn more about this event: https://ovc.ojp.gov/events/ovc-fy-
 2023-national-mass-violence-victimization-resource-center-pre-application-
 webinar
DTSTAMP:20260409T075732Z
END:VEVENT
END:VCALENDAR