BEGIN:VCALENDAR
VERSION:2.0
PRODID:-//Office for Victims of Crime//NONSGML Event Calendar//EN
BEGIN:VEVENT
UID:446a5407-e45a-42d3-9386-cd7d18e6c9b9
DTSTART;TZID=UTC:20230504T190000
SEQUENCE:0
TRANSP:OPAQUE
DTEND;TZID=UTC:20230504T200000
LOCATION:https://ovc.ojp.gov/events/ovc-fy-2023-supporting-children-youth-a
 nd-families-affected-drug-crisis-recruiting-and
SUMMARY:OVC FY 2023 Supporting Children\, Youth\, and Families Affected by 
 the Drug Crisis: Recruiting and Developing Peer Recovery Coaches Pre-Appli
 cation Webinar
CLASS:PUBLIC
DESCRIPTION:Learn more about this event: https://ovc.ojp.gov/events/ovc-fy-
 2023-supporting-children-youth-and-families-affected-drug-crisis-recruitin
 g-and
DTSTAMP:20260410T034612Z
END:VEVENT
END:VCALENDAR