BEGIN:VCALENDAR
VERSION:2.0
PRODID:-//Office for Victims of Crime//NONSGML Event Calendar//EN
BEGIN:VEVENT
UID:80c43b11-f590-4c73-a11e-763170a1caa8
DTSTART;VALUE=DATE:20230710
SEQUENCE:0
TRANSP:OPAQUE
DTEND;VALUE=DATE:20230728
LOCATION:https://ovc.ojp.gov/events/national-victim-assistance-academy-buil
 ding-resiliency-victim-service-organizations
SUMMARY:National Victim Assistance Academy: Building Resiliency in Victim S
 ervice Organizations
CLASS:PUBLIC
DESCRIPTION:Learn more about this event: https://ovc.ojp.gov/events/nationa
 l-victim-assistance-academy-building-resiliency-victim-service-organizatio
 ns
X-MICROSOFT-CDO-ALLDAYEVENT:TRUE
DTSTAMP:20260422T214809Z
END:VEVENT
END:VCALENDAR