BEGIN:VCALENDAR
VERSION:2.0
PRODID:-//Office for Victims of Crime//NONSGML Event Calendar//EN
BEGIN:VEVENT
UID:022435a7-8e16-4924-b5a3-2a9aa85d857f
DTSTART;TZID=UTC:20231213T160000
SEQUENCE:0
TRANSP:OPAQUE
DTEND;TZID=UTC:20231213T230000
LOCATION:https://ovc.ojp.gov/events/responding-unexplained-child-death-0
SUMMARY:Responding to an Unexplained Child Death
CLASS:PUBLIC
DESCRIPTION:Learn more about this event: https://ovc.ojp.gov/events/respond
 ing-unexplained-child-death-0
DTSTAMP:20260415T181652Z
END:VEVENT
END:VCALENDAR