BEGIN:VCALENDAR
VERSION:2.0
PRODID:-//Office for Victims of Crime//NONSGML Event Calendar//EN
BEGIN:VEVENT
UID:5c2e709e-1b6b-47b0-b5fc-0f672e6a1c16
DTSTART;TZID=UTC:20240717T130000
SEQUENCE:0
TRANSP:OPAQUE
DTEND;TZID=UTC:20240717T203000
LOCATION:https://ovc.ojp.gov/events/2024-virtual-summit-fundamentals-mass-v
 iolence-preparedness-response-recovery-resilience
SUMMARY:2024 Virtual Summit: Fundamentals of Mass Violence Preparedness\, R
 esponse\, Recovery\, & Resilience
CLASS:PUBLIC
DESCRIPTION:Learn more about this event: https://ovc.ojp.gov/events/2024-vi
 rtual-summit-fundamentals-mass-violence-preparedness-response-recovery-res
 ilience
DTSTAMP:20260410T151202Z
END:VEVENT
END:VCALENDAR