BEGIN:VCALENDAR
VERSION:2.0
PRODID:-//Office for Victims of Crime//NONSGML Event Calendar//EN
BEGIN:VEVENT
UID:6193b656-4df9-48ad-80b3-772e5204cce8
DTSTART;TZID=UTC:20240717T150000
SEQUENCE:0
TRANSP:OPAQUE
DTEND;TZID=UTC:20240717T230000
LOCATION:https://ovc.ojp.gov/events/responding-unexplained-child-death-3
SUMMARY:Responding to an Unexplained Child Death
CLASS:PUBLIC
DESCRIPTION:Learn more about this event: https://ovc.ojp.gov/events/respond
 ing-unexplained-child-death-3
DTSTAMP:20260410T150144Z
END:VEVENT
END:VCALENDAR