BEGIN:VCALENDAR
VERSION:2.0
PRODID:-//Office for Victims of Crime//NONSGML Event Calendar//EN
BEGIN:VEVENT
UID:cfd31156-863d-48cf-9a55-cfdb5ad22ff1
DTSTART;TZID=UTC:20250825T170000
SEQUENCE:0
TRANSP:OPAQUE
DTEND;TZID=UTC:20250825T181500
LOCATION:https://ovc.ojp.gov/events/never-too-young-impact-children-all-age
 s-witnessing-intimate-partner-violence
SUMMARY:Never Too Young: Impact on Children of All Ages Witnessing Intimate
  Partner Violence
CLASS:PUBLIC
DESCRIPTION:Learn more about this event: https://ovc.ojp.gov/events/never-t
 oo-young-impact-children-all-ages-witnessing-intimate-partner-violence
DTSTAMP:20260410T144337Z
END:VEVENT
END:VCALENDAR