BEGIN:VCALENDAR
VERSION:2.0
PRODID:-//Office for Victims of Crime//NONSGML Event Calendar//EN
BEGIN:VEVENT
UID:3e38e6ea-4723-4d79-8c96-509702513a76
DTSTART;TZID=UTC:20250415T170000
SEQUENCE:0
TRANSP:OPAQUE
DTEND;TZID=UTC:20250415T181500
LOCATION:https://ovc.ojp.gov/events/behavioral-aspects-human-trafficking
SUMMARY:Behavioral Aspects of Human Trafficking
CLASS:PUBLIC
DESCRIPTION:Learn more about this event: https://ovc.ojp.gov/events/behavio
 ral-aspects-human-trafficking
DTSTAMP:20260409T062047Z
END:VEVENT
END:VCALENDAR