BEGIN:VCALENDAR
VERSION:2.0
PRODID:-//Office for Victims of Crime//NONSGML Event Calendar//EN
BEGIN:VEVENT
UID:fb053c04-27d0-4406-bd35-b1b350ca8738
DTSTART;TZID=UTC:20250327T190000
SEQUENCE:0
TRANSP:OPAQUE
DTEND;TZID=UTC:20250327T200000
LOCATION:https://ovc.ojp.gov/events/measuring-service-outcomes-improve-over
 view-victim-legal-service-providers
SUMMARY:Measuring Service Outcomes with iMPRoVE: An overview for victim leg
 al service providers
CLASS:PUBLIC
DESCRIPTION:Learn more about this event: https://ovc.ojp.gov/events/measuri
 ng-service-outcomes-improve-overview-victim-legal-service-providers
DTSTAMP:20260412T212422Z
END:VEVENT
END:VCALENDAR