BEGIN:VCALENDAR
VERSION:2.0
PRODID:-//Office for Victims of Crime//NONSGML Event Calendar//EN
BEGIN:VEVENT
UID:cd748df2-610f-4b7d-b50a-fa4ee13a4612
DTSTART;TZID=UTC:20250506T120000
SEQUENCE:0
TRANSP:OPAQUE
DTEND;TZID=UTC:20250508T210000
LOCATION:https://ovc.ojp.gov/events/human-trafficking-practitioner-designat
 ion
SUMMARY:Human Trafficking Practitioner Designation
CLASS:PUBLIC
DESCRIPTION:Learn more about this event: https://ovc.ojp.gov/events/human-t
 rafficking-practitioner-designation
DTSTAMP:20260410T015823Z
END:VEVENT
END:VCALENDAR