BEGIN:VCALENDAR
VERSION:2.0
PRODID:-//Office for Victims of Crime//NONSGML Event Calendar//EN
BEGIN:VEVENT
UID:f217e0ed-7b8c-4144-8ad3-87c1f5e526c2
DTSTART;VALUE=DATE:20250409
SEQUENCE:0
TRANSP:OPAQUE
DTEND;VALUE=DATE:20250410
LOCATION:https://ovc.ojp.gov/events/2025-national-crime-victims-rights-week
 -memorial-garden-ceremony
SUMMARY:2025 National Crime Victims' Rights Week Memorial Garden Ceremony
CLASS:PUBLIC
DESCRIPTION:Learn more about this event: https://ovc.ojp.gov/events/2025-na
 tional-crime-victims-rights-week-memorial-garden-ceremony
X-MICROSOFT-CDO-ALLDAYEVENT:TRUE
DTSTAMP:20260409T075955Z
END:VEVENT
END:VCALENDAR