BEGIN:VCALENDAR
VERSION:2.0
PRODID:-//Office for Victims of Crime//NONSGML Event Calendar//EN
BEGIN:VEVENT
UID:44b70b47-c399-432e-b4a9-abdb5b800435
DTSTART;TZID=UTC:20250409T180000
SEQUENCE:0
TRANSP:OPAQUE
DTEND;TZID=UTC:20250409T200000
LOCATION:https://ovc.ojp.gov/events/crime-victims-rights-day-1
SUMMARY:Crime Victims Rights Day 
CLASS:PUBLIC
DESCRIPTION:Learn more about this event: https://ovc.ojp.gov/events/crime-v
 ictims-rights-day-1
DTSTAMP:20260423T225402Z
END:VEVENT
END:VCALENDAR