BEGIN:VCALENDAR
VERSION:2.0
PRODID:-//Office for Victims of Crime//NONSGML Event Calendar//EN
BEGIN:VEVENT
UID:dea06109-edfe-4274-a7f7-bf9c639cda4f
DTSTART;TZID=UTC:20250605T124500
SEQUENCE:0
TRANSP:OPAQUE
DTEND;TZID=UTC:20250605T193000
LOCATION:https://ovc.ojp.gov/events/elder-abuse-conference-brain-deteriorat
 ion-aging-im-still-here
SUMMARY:Elder Abuse Conference: Brain Deterioration with Aging - \"I'm Stil
 l Here\"
CLASS:PUBLIC
DESCRIPTION:Learn more about this event: https://ovc.ojp.gov/events/elder-a
 buse-conference-brain-deterioration-aging-im-still-here
DTSTAMP:20260412T200009Z
END:VEVENT
END:VCALENDAR