BEGIN:VCALENDAR
VERSION:2.0
PRODID:-//Office for Victims of Crime//NONSGML Event Calendar//EN
BEGIN:VEVENT
UID:dd959cff-529a-41e6-ad92-b8fc277c48d3
DTSTART;TZID=UTC:20250616T153000
SEQUENCE:0
TRANSP:OPAQUE
DTEND;TZID=UTC:20250717T170000
LOCATION:https://ovc.ojp.gov/events/national-victim-assistance-academy-buil
 ding-trauma-informed-organizations-2
SUMMARY:National Victim Assistance Academy: Building Trauma-Informed Organi
 zations
CLASS:PUBLIC
DESCRIPTION:Learn more about this event: https://ovc.ojp.gov/events/nationa
 l-victim-assistance-academy-building-trauma-informed-organizations-2
DTSTAMP:20260410T143215Z
END:VEVENT
END:VCALENDAR