BEGIN:VCALENDAR
VERSION:2.0
PRODID:-//Office for Victims of Crime//NONSGML Event Calendar//EN
BEGIN:VEVENT
UID:e3fbd0a7-eb77-4307-be7d-a5d6d32cc5ed
DTSTART;TZID=UTC:20250723T170000
SEQUENCE:0
TRANSP:OPAQUE
DTEND;TZID=UTC:20250723T180000
LOCATION:https://ovc.ojp.gov/events/ai-and-impact-its-having-through-video-
 and-image-generation
SUMMARY:AI and the Impact it's Having Through Video and Image Generation
CLASS:PUBLIC
DESCRIPTION:Learn more about this event: https://ovc.ojp.gov/events/ai-and-
 impact-its-having-through-video-and-image-generation
DTSTAMP:20260422T224317Z
END:VEVENT
END:VCALENDAR