BEGIN:VCALENDAR
VERSION:2.0
PRODID:-//Office for Victims of Crime//NONSGML Event Calendar//EN
BEGIN:VEVENT
UID:ee74351b-92fb-426e-b2ce-c12ff0224b45
DTSTART;TZID=UTC:20250804T113000
SEQUENCE:0
TRANSP:OPAQUE
DTEND;TZID=UTC:20250804T200000
LOCATION:https://ovc.ojp.gov/events/shift-wellness-psycho-educational-progr
 am-14
SUMMARY:SHIFT Wellness Psycho Educational Program
CLASS:PUBLIC
DESCRIPTION:Learn more about this event: https://ovc.ojp.gov/events/shift-w
 ellness-psycho-educational-program-14
DTSTAMP:20260423T191555Z
END:VEVENT
END:VCALENDAR