BEGIN:VCALENDAR
VERSION:2.0
PRODID:-//Office for Victims of Crime//NONSGML Event Calendar//EN
BEGIN:VEVENT
UID:1f13eb83-b90c-4309-8d5f-edc31c66d7b8
DTSTART;TZID=UTC:20250825T153000
SEQUENCE:0
TRANSP:OPAQUE
DTEND;TZID=UTC:20251106T180000
LOCATION:https://ovc.ojp.gov/events/national-victim-assistance-academy-lead
 ership-institute-0
SUMMARY:National Victim Assistance Academy: Leadership Institute
CLASS:PUBLIC
DESCRIPTION:Learn more about this event: https://ovc.ojp.gov/events/nationa
 l-victim-assistance-academy-leadership-institute-0
DTSTAMP:20260410T145126Z
END:VEVENT
END:VCALENDAR