BEGIN:VCALENDAR
VERSION:2.0
PRODID:-//Office for Victims of Crime//NONSGML Event Calendar//EN
BEGIN:VEVENT
UID:4a50898f-84d9-45d9-8992-30a1f067ba32
DTSTART;TZID=UTC:20250915T183000
SEQUENCE:0
TRANSP:OPAQUE
DTEND;TZID=UTC:20251023T200000
LOCATION:https://ovc.ojp.gov/events/national-victim-assistance-academy-path
 ways-victim-services
SUMMARY:National Victim Assistance Academy: Pathways in Victim Services
CLASS:PUBLIC
DESCRIPTION:Learn more about this event: https://ovc.ojp.gov/events/nationa
 l-victim-assistance-academy-pathways-victim-services
DTSTAMP:20260411T202627Z
END:VEVENT
END:VCALENDAR