BEGIN:VCALENDAR
VERSION:2.0
PRODID:-//Office for Victims of Crime//NONSGML Event Calendar//EN
BEGIN:VEVENT
UID:f9c209d3-ac67-41d2-b64e-a1ac47710f9b
DTSTART;TZID=UTC:20261208T180000
SEQUENCE:0
TRANSP:OPAQUE
DTEND;TZID=UTC:20261208T191500
LOCATION:https://ovc.ojp.gov/events/privacy-vs-confidentiality
SUMMARY:Privacy vs Confidentiality
CLASS:PUBLIC
DESCRIPTION:Learn more about this event: https://ovc.ojp.gov/events/privacy
 -vs-confidentiality
DTSTAMP:20260409T125942Z
END:VEVENT
END:VCALENDAR