BEGIN:VCALENDAR
VERSION:2.0
PRODID:-//Office for Victims of Crime//NONSGML Event Calendar//EN
BEGIN:VEVENT
UID:3efea1f2-b9a0-47e7-a25d-6adbe8964220
DTSTART;TZID=UTC:20261103T200000
SEQUENCE:0
TRANSP:OPAQUE
DTEND;TZID=UTC:20261103T211500
LOCATION:https://ovc.ojp.gov/events/safety-planning-pets
SUMMARY:Safety Planning With Pets
CLASS:PUBLIC
DESCRIPTION:Learn more about this event: https://ovc.ojp.gov/events/safety-
 planning-pets
DTSTAMP:20260425T152221Z
END:VEVENT
END:VCALENDAR