BEGIN:VCALENDAR
VERSION:2.0
PRODID:-//Office for Victims of Crime//NONSGML Event Calendar//EN
BEGIN:VEVENT
UID:db87bbab-4cd4-4094-9805-483b6c1d5d6d
DTSTART;TZID=UTC:20260811T170000
SEQUENCE:0
TRANSP:OPAQUE
DTEND;TZID=UTC:20260811T181500
LOCATION:https://ovc.ojp.gov/events/what-healing-looks-youth-trauma-histori
 es
SUMMARY:What Healing Looks Like: Youth with Trauma Histories
CLASS:PUBLIC
DESCRIPTION:Learn more about this event: https://ovc.ojp.gov/events/what-he
 aling-looks-youth-trauma-histories
DTSTAMP:20260409T131241Z
END:VEVENT
END:VCALENDAR