BEGIN:VCALENDAR
VERSION:2.0
PRODID:-//Office for Victims of Crime//NONSGML Event Calendar//EN
BEGIN:VEVENT
UID:1a0a5ef8-0581-499b-aa24-14d6ad10d45e
DTSTART;TZID=UTC:20260827T170000
SEQUENCE:0
TRANSP:OPAQUE
DTEND;TZID=UTC:20260827T180000
LOCATION:https://ovc.ojp.gov/events/ethics-department-defense-advocates
SUMMARY:Ethics for Department of Defense Advocates
CLASS:PUBLIC
DESCRIPTION:Learn more about this event: https://ovc.ojp.gov/events/ethics-
 department-defense-advocates
DTSTAMP:20260420T191923Z
END:VEVENT
END:VCALENDAR