BEGIN:VCALENDAR
VERSION:2.0
PRODID:-//Office for Victims of Crime//NONSGML Event Calendar//EN
BEGIN:VEVENT
UID:2f502c81-6992-4fba-a0c9-9ac477c72907
DTSTART;TZID=UTC:20260425T150000
SEQUENCE:0
TRANSP:OPAQUE
DTEND;TZID=UTC:20260425T180000
LOCATION:https://ovc.ojp.gov/events/community-resource-fair-and-candlelight
 -vigil
SUMMARY:Community Resource Fair and Candlelight Vigil
CLASS:PUBLIC
DESCRIPTION:Learn more about this event: https://ovc.ojp.gov/events/communi
 ty-resource-fair-and-candlelight-vigil
DTSTAMP:20260420T191924Z
END:VEVENT
END:VCALENDAR