BEGIN:VCALENDAR
VERSION:2.0
PRODID:-//Office for Victims of Crime//NONSGML Event Calendar//EN
BEGIN:VEVENT
UID:a7eae2f3-b35e-4bd3-818b-83724e84c426
DTSTART;TZID=UTC:20260425T170000
SEQUENCE:0
TRANSP:OPAQUE
DTEND;TZID=UTC:20260425T200000
LOCATION:https://ovc.ojp.gov/events/victim-rights-all-communities-resource-
 fair
SUMMARY:Victim Rights for All Communities Resource Fair
CLASS:PUBLIC
DESCRIPTION:Learn more about this event: https://ovc.ojp.gov/events/victim-
 rights-all-communities-resource-fair
DTSTAMP:20260420T183353Z
END:VEVENT
END:VCALENDAR