BEGIN:VCALENDAR
VERSION:2.0
PRODID:-//Office for Victims of Crime//NONSGML Event Calendar//EN
BEGIN:VEVENT
UID:f9da8826-935e-443f-b202-90c580cf0d16
DTSTART;TZID=UTC:20260419T120000
SEQUENCE:0
TRANSP:OPAQUE
DTEND;TZID=UTC:20260502T200000
LOCATION:https://ovc.ojp.gov/events/national-crime-victims-rights-week-stud
 ent-art-display
SUMMARY:National Crime Victims' Rights Week Student Art Display
CLASS:PUBLIC
DESCRIPTION:Learn more about this event: https://ovc.ojp.gov/events/nationa
 l-crime-victims-rights-week-student-art-display
DTSTAMP:20260423T170326Z
END:VEVENT
END:VCALENDAR