BEGIN:VCALENDAR
VERSION:2.0
PRODID:-//Office for Victims of Crime//NONSGML Event Calendar//EN
BEGIN:VEVENT
UID:45f7299a-4fe1-4b2d-ab83-c0b2afb3092a
DTSTART;TZID=UTC:20260425T130000
SEQUENCE:0
TRANSP:OPAQUE
DTEND;TZID=UTC:20260425T153000
LOCATION:https://ovc.ojp.gov/events/national-crime-victims-rights-week-2026
 -pathway-peace-healing-community-forum
SUMMARY:National Crime Victims' Rights Week 2026 Pathway to Peace & Healing
  Community Forum
CLASS:PUBLIC
DESCRIPTION:Learn more about this event: https://ovc.ojp.gov/events/nationa
 l-crime-victims-rights-week-2026-pathway-peace-healing-community-forum
DTSTAMP:20260424T145248Z
END:VEVENT
END:VCALENDAR