BEGIN:VCALENDAR
VERSION:2.0
PRODID:-//Office for Victims of Crime//NONSGML Event Calendar//EN
BEGIN:VEVENT
UID:9d91f513-b2ac-414b-91e3-f8e92ef3c9b1
DTSTART;TZID=UTC:20260425T143000
SEQUENCE:0
TRANSP:OPAQUE
DTEND;TZID=UTC:20260425T180000
LOCATION:https://ovc.ojp.gov/events/5th-annual-united-hearts-park
SUMMARY:5th Annual United Hearts In The Park
CLASS:PUBLIC
DESCRIPTION:Learn more about this event: https://ovc.ojp.gov/events/5th-ann
 ual-united-hearts-park
DTSTAMP:20260424T145248Z
END:VEVENT
END:VCALENDAR