BEGIN:VCALENDAR
VERSION:2.0
PRODID:-//Office for Victims of Crime//NONSGML Event Calendar//EN
BEGIN:VEVENT
UID:6e42e8cd-7712-48d2-9808-d32f2211f80e
DTSTART;TZID=UTC:20260426T180000
SEQUENCE:0
TRANSP:OPAQUE
DTEND;TZID=UTC:20260426T230000
LOCATION:https://ovc.ojp.gov/events/national-crime-victims-rights-week-heal
 -1-day-revival-community-restoration
SUMMARY:National Crime Victims' Rights Week Heal 1 Day Revival Community Re
 storation
CLASS:PUBLIC
DESCRIPTION:Learn more about this event: https://ovc.ojp.gov/events/nationa
 l-crime-victims-rights-week-heal-1-day-revival-community-restoration
DTSTAMP:20260424T145248Z
END:VEVENT
END:VCALENDAR